BEGIN:VCALENDAR
VERSION:2.0
PRODID:-//Panorama PetVet - ECPv6.15.20//NONSGML v1.0//EN
CALSCALE:GREGORIAN
METHOD:PUBLISH
X-ORIGINAL-URL:https://panoramapetvet.com.br
X-WR-CALDESC:Eventos para Panorama PetVet
REFRESH-INTERVAL;VALUE=DURATION:PT1H
X-Robots-Tag:noindex
X-PUBLISHED-TTL:PT1H
BEGIN:VTIMEZONE
TZID:America/Sao_Paulo
BEGIN:STANDARD
TZOFFSETFROM:-0300
TZOFFSETTO:-0300
TZNAME:-03
DTSTART:20240101T000000
END:STANDARD
END:VTIMEZONE
BEGIN:VEVENT
DTSTART;VALUE=DATE:20251001
DTEND;VALUE=DATE:20251101
DTSTAMP:20260421T122508
CREATED:20251017T184216Z
LAST-MODIFIED:20251017T184216Z
UID:492951-1759276800-1761955199@panoramapetvet.com.br
SUMMARY:OUTUBRO ROSA
DESCRIPTION:
URL:https://panoramapetvet.com.br/evento/outubro-rosa-2/
END:VEVENT
BEGIN:VEVENT
DTSTART;VALUE=DATE:20251005
DTEND;VALUE=DATE:20251008
DTSTAMP:20260421T122508
CREATED:20251017T144414Z
LAST-MODIFIED:20251017T144414Z
UID:492812-1759622400-1759881599@panoramapetvet.com.br
SUMMARY:PetSul Brasil
DESCRIPTION:A primeira edição da PetSul Brasil terá três dias de workshops\, palestras e arenas de conteúdo e reúne profissionais do mercado pet para capacitação\, tendências e troca de experiências em Santa Catarina
URL:https://panoramapetvet.com.br/evento/petsul-brasil/
LOCATION:Centro de Eventos Mundo Car\, São José\, SC
END:VEVENT
BEGIN:VEVENT
DTSTART;VALUE=DATE:20251008
DTEND;VALUE=DATE:20251012
DTSTAMP:20260421T122508
CREATED:20251017T144940Z
LAST-MODIFIED:20251017T144940Z
UID:492816-1759881600-1760227199@panoramapetvet.com.br
SUMMARY:PETZOO EURASIA
DESCRIPTION:A Petzoo Eurasia é a maior feira de produtos e serviços pet da Turquia\, voltada tanto a profissionais quanto ao público final e promete reunir um alto número de visitantes e profissionais de vários países no evento.
URL:https://panoramapetvet.com.br/evento/petzoo-eurasia/
LOCATION:Istambul (Turquia)
END:VEVENT
BEGIN:VEVENT
DTSTART;VALUE=DATE:20251010
DTEND;VALUE=DATE:20251015
DTSTAMP:20260421T122508
CREATED:20251017T145050Z
LAST-MODIFIED:20251017T145050Z
UID:492819-1760054400-1760486399@panoramapetvet.com.br
SUMMARY:CHAN CHAO MEOW EXPO
DESCRIPTION:Feira que acontece na China\, especializada em alimentos\, tratamentos\, serviços e produtos de saúde para animais de estimação.
URL:https://panoramapetvet.com.br/evento/chan-chao-meow-expo/
LOCATION:Taipé (Taiwan)
END:VEVENT
BEGIN:VEVENT
DTSTART;VALUE=DATE:20251016
DTEND;VALUE=DATE:20251019
DTSTAMP:20260421T122508
CREATED:20251017T145146Z
LAST-MODIFIED:20251017T145146Z
UID:492822-1760572800-1760831999@panoramapetvet.com.br
SUMMARY:5ª Convenção ABHV
DESCRIPTION:Durante três dias de evento\, a 5ª Convenção ABHV promoverá palestras e networing com os principais especialistas da área e renomadas industrias do setor.
URL:https://panoramapetvet.com.br/evento/5a-convencao-abhv/
LOCATION:Costão do Santinho (SC)
END:VEVENT
BEGIN:VEVENT
DTSTART;VALUE=DATE:20251017
DTEND;VALUE=DATE:20251020
DTSTAMP:20260421T122508
CREATED:20251017T145235Z
LAST-MODIFIED:20251017T145235Z
UID:492826-1760659200-1760918399@panoramapetvet.com.br
SUMMARY:Simpósio Internacional Dor e Comportamento
DESCRIPTION:Em dois dias de evento\, o Simpósio Internacional de Dor e Comportamento oferecerá mini cursos para veterinários\, estudantes e profissionais do setor pet. Além disso\, sediará palestras que abordam desde o diagnóstico da dor crônica até técnicas de reabilitação\, comportamento e enriquecimento ambiental\, com enfoque especial no bem-estar e na ciência do conforto animal.
URL:https://panoramapetvet.com.br/evento/simposio-internacional-dor-e-comportamento/
LOCATION:São Paulo
END:VEVENT
BEGIN:VEVENT
DTSTART;TZID=America/Sao_Paulo:20251019T080000
DTEND;TZID=America/Sao_Paulo:20251021T170000
DTSTAMP:20260421T122508
CREATED:20251017T145334Z
LAST-MODIFIED:20251017T145334Z
UID:492830-1760860800-1761066000@panoramapetvet.com.br
SUMMARY:Expo PetVet Centro-Oeste
DESCRIPTION:A feira reúne profissionas do setor pet e veterinário da região Centro-Oeste e possibilita a promoção de marcas e conexão com profissionais e fornecedores. Além disso\, possibilita oportunidades de novos negócios e parcerias\, fortalecendo o mercado e inspirando o crescimento da área.
URL:https://panoramapetvet.com.br/evento/expo-petvet-centro-oeste/
LOCATION:Pavilhão de Exposições do Parque da Cidade\, Brasília
END:VEVENT
BEGIN:VEVENT
DTSTART;VALUE=DATE:20251024
DTEND;VALUE=DATE:20251027
DTSTAMP:20260421T122508
CREATED:20251017T145426Z
LAST-MODIFIED:20251017T145426Z
UID:492834-1761264000-1761523199@panoramapetvet.com.br
SUMMARY:2ª Minas Expo Pet Vet
DESCRIPTION:Evento destinado a médicos veterinários\, zootecnistas\, groomers e demais profissionais do setor pet\, reunirá exposições\, treinamentos\, workshops\, cursos e uma feira de negócios com as últimas novidades de produtos\, serviços e soluções voltadas à saúde\, bem-estar e estética animal.
URL:https://panoramapetvet.com.br/evento/2a-minas-expo-pet-vet/
LOCATION:Pouso Alegre
END:VEVENT
BEGIN:VEVENT
DTSTART;VALUE=DATE:20251025
DTEND;VALUE=DATE:20251026
DTSTAMP:20260421T122508
CREATED:20251017T145513Z
LAST-MODIFIED:20251017T145513Z
UID:492837-1761350400-1761436799@panoramapetvet.com.br
SUMMARY:EloVetDay IV
DESCRIPTION:Gestores\, sócios de hospitais e clínicas veterinárias\, profissionais da indústria\, investidores e pesquisadores se reunem na 4º edição do EvoVetDay\, evento que promove discussões estratégicas entre os principais players do ecossistema veterinário.
URL:https://panoramapetvet.com.br/evento/elovetday-iv/
LOCATION:Casa Pompeia\, SP
END:VEVENT
BEGIN:VEVENT
DTSTART;VALUE=DATE:20251026
DTEND;VALUE=DATE:20251027
DTSTAMP:20260421T122508
CREATED:20251017T162128Z
LAST-MODIFIED:20251021T181632Z
UID:492915-1761436800-1761523199@panoramapetvet.com.br
SUMMARY:VetPetDay
DESCRIPTION:O congresso reunirá profissionais e empreendedores do universo pet para um dia de conhecimento\, networking e inspiração com palestras sobre Gestão\, Vendas\, Liderança\, Finanças\, Bem-Estar e Marketing.
URL:https://panoramapetvet.com.br/evento/vetpetday/
LOCATION:Recife Expo Center
END:VEVENT
BEGIN:VEVENT
DTSTART;TZID=America/Sao_Paulo:20251027T120000
DTEND;TZID=America/Sao_Paulo:20251028T210000
DTSTAMP:20260421T122508
CREATED:20251031T185413Z
LAST-MODIFIED:20251031T185413Z
UID:494485-1761566400-1761685200@panoramapetvet.com.br
SUMMARY:Hill's Global Symposium 2025
DESCRIPTION:Em dois dias\, o encontro online irá reunir veterinarios de todo o mundo para um aprofundamos sobre a compreensão do processo de envelhecimento e como a Hill’s apoia o envelhecimento saudável dos pacientes sob seus cuidados
URL:https://panoramapetvet.com.br/evento/hills-global-symposium-2025/
LOCATION:Online
END:VEVENT
BEGIN:VEVENT
DTSTART;VALUE=DATE:20251029
DTEND;VALUE=DATE:20251101
DTSTAMP:20260421T122508
CREATED:20251017T145612Z
LAST-MODIFIED:20251017T145612Z
UID:492841-1761696000-1761955199@panoramapetvet.com.br
SUMMARY:PET FAIR SOUTH EAST ASIA
DESCRIPTION:A Pet Fair South East-Asia é o principal evento B2B do Sudeste asiático e proporciona à indústria global de animais de estimação um ambiente completo para fornecedores\, distribuidoras e lojistas.
URL:https://panoramapetvet.com.br/evento/pet-fair-south-east-asia/
LOCATION:Bangkok (Tailândia)
END:VEVENT
BEGIN:VEVENT
DTSTART;VALUE=DATE:20251030
DTEND;VALUE=DATE:20251102
DTSTAMP:20260421T122508
CREATED:20251017T162317Z
LAST-MODIFIED:20251017T162317Z
UID:492918-1761782400-1762041599@panoramapetvet.com.br
SUMMARY:Comdev 2025
DESCRIPTION:O Congresso Medvep Internacional de Dermatologia Veterinária reune especialistas consagrados\, profissionais em ascensão\, generalistas ambiciosos e futuros talentos acadêmicos em um único espaço. Evento indicado para quem quer crescer\, atualizar conhecimentos e se destacar na dermatologia veterinária.
URL:https://panoramapetvet.com.br/evento/comdev-2025/
LOCATION:Rafain Palace Hotel\, Foz do Iguaçu / PR
END:VEVENT
BEGIN:VEVENT
DTSTART;VALUE=DATE:20251030
DTEND;VALUE=DATE:20251102
DTSTAMP:20260421T122508
CREATED:20251017T162408Z
LAST-MODIFIED:20251017T162408Z
UID:492921-1761782400-1762041599@panoramapetvet.com.br
SUMMARY:COMFEL 2025
DESCRIPTION:O Congresso Medvep de Medicina Felina é o maior evento de medicina felina da América Latina para especialistas e profissionais que desejam dominar as técnicas mais avançadas e os conhecimentos mais recentes da área.
URL:https://panoramapetvet.com.br/evento/comfel-2025/
LOCATION:Rafain Palace Hotel\, Foz do Iguaçu / PR
END:VEVENT
BEGIN:VEVENT
DTSTART;VALUE=DATE:20251030
DTEND;VALUE=DATE:20251102
DTSTAMP:20260421T122508
CREATED:20251017T162452Z
LAST-MODIFIED:20251017T162452Z
UID:492923-1761782400-1762041599@panoramapetvet.com.br
SUMMARY:Comlab 2025
DESCRIPTION:O Congresso Medvep de Medicina Laboratorial\, Hemoterapia e Hematologia Veterinária é voltado para profissionais da área de medicina laboratorial.
URL:https://panoramapetvet.com.br/evento/comlab-2025/
LOCATION:Rafain Palace Hotel\, Foz do Iguaçu / PR
END:VEVENT
BEGIN:VEVENT
DTSTART;VALUE=DATE:20251030
DTEND;VALUE=DATE:20251102
DTSTAMP:20260421T122508
CREATED:20251017T162530Z
LAST-MODIFIED:20251017T162530Z
UID:492925-1761782400-1762041599@panoramapetvet.com.br
SUMMARY:Comcir 2025
DESCRIPTION:O Congresso Medvep de Cirurgia Veterinária reúne expertise\, cirurgiões renomados\, profissionais em especialização\, generalistas dedicados e futuros talentos acadêmicos\, inovação e networking em um único lugar.
URL:https://panoramapetvet.com.br/evento/comcir-2025/
LOCATION:Rafain Palace Hotel\, Foz do Iguaçu / PR
END:VEVENT
BEGIN:VEVENT
DTSTART;VALUE=DATE:20251031
DTEND;VALUE=DATE:20251101
DTSTAMP:20260421T122508
CREATED:20251031T162503Z
LAST-MODIFIED:20251031T162503Z
UID:494438-1761868800-1761955199@panoramapetvet.com.br
SUMMARY:Fórum GlobalPETS 2026
DESCRIPTION:O GlobalPETS 2026 é o principal evento de networking da indústria de animais de estimação\, reunindo executivos\, especialistas e os principais players do setor para debates\, troca de experiências e atualização sobre tendências do mercado
URL:https://panoramapetvet.com.br/evento/forum-globalpets-2026/
LOCATION:Istambul (Turquia)
END:VEVENT
BEGIN:VEVENT
DTSTART;VALUE=DATE:20251031
DTEND;VALUE=DATE:20251102
DTSTAMP:20260421T122508
CREATED:20251017T145814Z
LAST-MODIFIED:20251017T145814Z
UID:492844-1761868800-1762041599@panoramapetvet.com.br
SUMMARY:Feira Pet Connect
DESCRIPTION:A Feira Pet Connect é o maior evento do setor que acontece no interior de Minas Gerais. O evento apresentará novidades e possibilitará novas parcerias para incrementar os negócios das empresas.
URL:https://panoramapetvet.com.br/evento/feira-pet-connect/
LOCATION:Centro de Convenções do Trade Hotel\, Minas Gerais (MG)
END:VEVENT
BEGIN:VEVENT
DTSTART;VALUE=DATE:20251101
DTEND;VALUE=DATE:20251201
DTSTAMP:20260421T122508
CREATED:20251017T184229Z
LAST-MODIFIED:20251017T184229Z
UID:492953-1761955200-1764547199@panoramapetvet.com.br
SUMMARY:NOVEMBRO AZUL
DESCRIPTION:
URL:https://panoramapetvet.com.br/evento/novembro-azul-2/
END:VEVENT
BEGIN:VEVENT
DTSTART;VALUE=DATE:20251105
DTEND;VALUE=DATE:20251108
DTSTAMP:20260421T122508
CREATED:20251017T145933Z
LAST-MODIFIED:20251017T145933Z
UID:492847-1762300800-1762559999@panoramapetvet.com.br
SUMMARY:Pet Sourcing Fair China
DESCRIPTION:A Pet Sourcing Fair China é a principal feira global de negócios focada no fornecimento de produtos para animais de estimação. O evento foi desenvoldido por empresas líderes da indústria pet chinesa a fim de explorar as tendências do mercado global\, o desenvolvimento diversificado do mercado e orientar as empresas em marketing e inovação multicanal.
URL:https://panoramapetvet.com.br/evento/pet-sourcing-fair-china/
LOCATION:Guangzhou\, China
END:VEVENT
BEGIN:VEVENT
DTSTART;VALUE=DATE:20251111
DTEND;VALUE=DATE:20251112
DTSTAMP:20260421T122508
CREATED:20251031T184829Z
LAST-MODIFIED:20251031T184829Z
UID:494480-1762819200-1762905599@panoramapetvet.com.br
SUMMARY:Seminário do Setor de Pet Brasileiro
DESCRIPTION:O Seminário do Setor de Pet Brasileiro é promovido pela Apex Brasil e conceta empresas brasileiras\, comerciais\, distribuidoras e exportadoras a conteúdos estratégicos e técnicos essenciais para o fortalecer o setor nacional e internacional
URL:https://panoramapetvet.com.br/evento/seminario-do-setor-de-pet-brasileiro/
LOCATION:São Paulo
END:VEVENT
BEGIN:VEVENT
DTSTART;VALUE=DATE:20251111
DTEND;VALUE=DATE:20251114
DTSTAMP:20260421T122508
CREATED:20251017T150033Z
LAST-MODIFIED:20251017T150033Z
UID:492850-1762819200-1763078399@panoramapetvet.com.br
SUMMARY:Vet Connection
DESCRIPTION:A Vet Connection terá sua primeira edição em 2025 e tem como principal objetivo reunir profissionais\, estudantes\, gestores\, empreendedores e a indústria vet e pet em um ambiente dedicado à gestão\, inovação e especialidades.
URL:https://panoramapetvet.com.br/evento/vet-connection/
LOCATION:Centro de Eventos da PUCRS – Porto Alegre/RS
END:VEVENT
BEGIN:VEVENT
DTSTART;TZID=America/Sao_Paulo:20251112T080000
DTEND;TZID=America/Sao_Paulo:20251112T170000
DTSTAMP:20260421T122508
CREATED:20251110T142808Z
LAST-MODIFIED:20251110T142808Z
UID:494680-1762934400-1762966800@panoramapetvet.com.br
SUMMARY:Simpósio de Medicina Veterinária Legal
DESCRIPTION:A 1ª edição do Simpósio de Medicina Veterinária Legal\, organizada pelo Conselho Federal de Medicina Veterinária (CFMV)\, reúne profissionais para debater o papel do médico veterinário nas investigações criminais\, na perícia técnica e na construção de políticas públicas que assegurem a justiça e o bem-estar animal
URL:https://panoramapetvet.com.br/evento/simposio-de-medicina-veterinaria-legal/
LOCATION:Auditório do CFMV – SIA Trecho 6\, Lotes 130/140\, Brasília-DF e online
END:VEVENT
BEGIN:VEVENT
DTSTART;VALUE=DATE:20251113
DTEND;VALUE=DATE:20251117
DTSTAMP:20260421T122508
CREATED:20251017T150147Z
LAST-MODIFIED:20251017T150147Z
UID:492853-1762992000-1763337599@panoramapetvet.com.br
SUMMARY:China International Pet Show
DESCRIPTION:A 29ª da CIPS acontecerá nos dias 13\, 14\, 15 e 16 de novembro. O evento tem como objetivo trazer insights sobre as mudanças e tendências em toda a indústria. Além disso\, será um espaço para negócios que possibilita o networking com mais de 70 mil profissionas do setor de mais de 120 países.
URL:https://panoramapetvet.com.br/evento/china-international-pet-show/
LOCATION:China lmport and Export Fair Complex\, Guangzhou
END:VEVENT
BEGIN:VEVENT
DTSTART;VALUE=DATE:20251118
DTEND;VALUE=DATE:20251119
DTSTAMP:20260421T122508
CREATED:20251017T150258Z
LAST-MODIFIED:20251017T150258Z
UID:492856-1763424000-1763510399@panoramapetvet.com.br
SUMMARY:Feira Petnor
DESCRIPTION:Nos dias 16\, 17 e 18 de novembro acontecerá a 8° edição da Petnor\, encontro importante do setor pet e veterinário do Norte e Nordeste. O encontro terá congresso científico-veterinário\, cursos das áreas de saúde\, estética\, bem-estar animal\, gestão e empreendedorismo\, sendo um ótima oportunidade para fomentar o mercado.
URL:https://panoramapetvet.com.br/evento/feira-petnor/
LOCATION:Pernambuco Centro de Convenções
END:VEVENT
BEGIN:VEVENT
DTSTART;VALUE=DATE:20251121
DTEND;VALUE=DATE:20251124
DTSTAMP:20260421T122508
CREATED:20251017T161720Z
LAST-MODIFIED:20251017T161720Z
UID:492909-1763683200-1763942399@panoramapetvet.com.br
SUMMARY:PETZOO África
DESCRIPTION:A PETZOO África é a primeira e única feira internacional dedicada ao setor pet no continente. Realizada no Egito\, o evento reúne fabricantes\, distribuidores\, profissionais da indústria e visitantes. Além de abrir portas para os mercados locais e regionais\, a feira também cria novas oportunidades comerciais com marcas globais de renome.
URL:https://panoramapetvet.com.br/evento/petzoo-africa/
LOCATION:Cairo International Exhibition Center – Cairo\, Egypt
END:VEVENT
BEGIN:VEVENT
DTSTART;VALUE=DATE:20251124
DTEND;VALUE=DATE:20251127
DTSTAMP:20260421T122508
CREATED:20251017T150748Z
LAST-MODIFIED:20251017T150748Z
UID:492859-1763942400-1764201599@panoramapetvet.com.br
SUMMARY:Pet Expo Saudi Arabia
DESCRIPTION:A Saudi Pet Expo é a única feira de animais de estimação da Arábia Saudita e pelo seu quarto ano consecutivo traz uma exposição de alimentos\, acessórios e serviços de saúde.
URL:https://panoramapetvet.com.br/evento/pet-expo-saudi-arabia/
LOCATION:Riyadh – Saudi Arabia
END:VEVENT
BEGIN:VEVENT
DTSTART;VALUE=DATE:20251129
DTEND;VALUE=DATE:20251130
DTSTAMP:20260421T122508
CREATED:20251017T150848Z
LAST-MODIFIED:20251017T150848Z
UID:492862-1764374400-1764460799@panoramapetvet.com.br
SUMMARY:V SIMBA MED VET
DESCRIPTION:O Simpósio Brasileiro Afrocentrado de Medicina Veterinária\, promovido pelo grupo AFROVET\, destaca o protagonismo de profissionais negros\, promove inclusão e combate o racismo na área. O evento está aberto a médicos veterinários e estudantes.
URL:https://panoramapetvet.com.br/evento/v-simba-med-vet/
LOCATION:UNIFACS (Campus Tancredo Neves) – Avenida Tancredo Neves\, 2131 – Caminho das Árvores
END:VEVENT
BEGIN:VEVENT
DTSTART;TZID=America/Sao_Paulo:20251129T080000
DTEND;TZID=America/Sao_Paulo:20251129T173000
DTSTAMP:20260421T122508
CREATED:20251017T161622Z
LAST-MODIFIED:20251017T161622Z
UID:492906-1764403200-1764437400@panoramapetvet.com.br
SUMMARY:V SIMBA MED VET
DESCRIPTION:O Simpósio Brasileiro Afrocentrado de Medicina Veterinária\, promovido pelo grupo AFROVET\, destaca o protagonismo de profissionais negros\, promove inclusão e combate o racismo na área. O evento está aberto a médicos veterinários e estudantes.
URL:https://panoramapetvet.com.br/evento/v-simba-med-vet-2/
LOCATION:UNIFACS (Campus Tancredo Neves) – Avenida Tancredo Neves\, 2131 – Caminho das Árvores.
END:VEVENT
BEGIN:VEVENT
DTSTART;VALUE=DATE:20251201
DTEND;VALUE=DATE:20260101
DTSTAMP:20260421T122508
CREATED:20251017T184247Z
LAST-MODIFIED:20251017T184247Z
UID:492955-1764547200-1767225599@panoramapetvet.com.br
SUMMARY:DEZEMBRO VERDE
DESCRIPTION:
URL:https://panoramapetvet.com.br/evento/dezembro-verde-2/
END:VEVENT
END:VCALENDAR