BEGIN:VCALENDAR
VERSION:2.0
PRODID:-//Panorama PetVet - ECPv6.15.20//NONSGML v1.0//EN
CALSCALE:GREGORIAN
METHOD:PUBLISH
X-WR-CALNAME:Panorama PetVet
X-ORIGINAL-URL:https://panoramapetvet.com.br
X-WR-CALDESC:Eventos para Panorama PetVet
REFRESH-INTERVAL;VALUE=DURATION:PT1H
X-Robots-Tag:noindex
X-PUBLISHED-TTL:PT1H
BEGIN:VTIMEZONE
TZID:America/Sao_Paulo
BEGIN:STANDARD
TZOFFSETFROM:-0300
TZOFFSETTO:-0300
TZNAME:-03
DTSTART:20250101T000000
END:STANDARD
END:VTIMEZONE
BEGIN:VEVENT
DTSTART;VALUE=DATE:20261001
DTEND;VALUE=DATE:20261101
DTSTAMP:20260421T114156
CREATED:20251017T183839Z
LAST-MODIFIED:20251017T183839Z
UID:492945-1790812800-1793491199@panoramapetvet.com.br
SUMMARY:OUTUBRO ROSA
DESCRIPTION:
URL:https://panoramapetvet.com.br/evento/outubro-rosa/
END:VEVENT
BEGIN:VEVENT
DTSTART;VALUE=DATE:20261027
DTEND;VALUE=DATE:20261028
DTSTAMP:20260421T114156
CREATED:20251021T181427Z
LAST-MODIFIED:20251021T181427Z
UID:493920-1793059200-1793145599@panoramapetvet.com.br
SUMMARY:Dia da Conscientização pelo Gato Preto
DESCRIPTION:
URL:https://panoramapetvet.com.br/evento/dia-da-conscientizacao-pelo-gato-preto/
END:VEVENT
BEGIN:VEVENT
DTSTART;VALUE=DATE:20261029
DTEND;VALUE=DATE:20261030
DTSTAMP:20260421T114156
CREATED:20251208T185550Z
LAST-MODIFIED:20251208T185550Z
UID:495102-1793232000-1793318399@panoramapetvet.com.br
SUMMARY:Vet Connection 2026
DESCRIPTION:A Vet Connection tem como principal objetivo reunir profissionais\, estudantes\, gestores\, empreendedores e a indústria vet e pet em um ambiente dedicado à gestão\, inovação e especialidades.
URL:https://panoramapetvet.com.br/evento/vet-connection-2026/
LOCATION:Porto Alegre
END:VEVENT
BEGIN:VEVENT
DTSTART;VALUE=DATE:20261101
DTEND;VALUE=DATE:20261201
DTSTAMP:20260421T114156
CREATED:20251017T184132Z
LAST-MODIFIED:20251017T184132Z
UID:492947-1793491200-1796083199@panoramapetvet.com.br
SUMMARY:NOVEMBRO AZUL
DESCRIPTION:
URL:https://panoramapetvet.com.br/evento/novembro-azul/
END:VEVENT
BEGIN:VEVENT
DTSTART;VALUE=DATE:20261105
DTEND;VALUE=DATE:20261106
DTSTAMP:20260421T114156
CREATED:20251021T181445Z
LAST-MODIFIED:20251021T181445Z
UID:493922-1793836800-1793923199@panoramapetvet.com.br
SUMMARY:Dia do Adestrador
DESCRIPTION:
URL:https://panoramapetvet.com.br/evento/dia-do-adestrador/
END:VEVENT
BEGIN:VEVENT
DTSTART;VALUE=DATE:20261106
DTEND;VALUE=DATE:20261107
DTSTAMP:20260421T114156
CREATED:20251031T182655Z
LAST-MODIFIED:20251031T182655Z
UID:494435-1793923200-1794009599@panoramapetvet.com.br
SUMMARY:Simpósio VET Nutrition Summit
DESCRIPTION:A 3º edição do VET Nutrition Summit acontece no Ganepão 2026\, maior congresso de nutrição da América Latina. Reúne cerca de 100 profissionais e conta com palestras\, estudos de caso e debates com foco em nutrição clínica de cães e gatos e inovações no mercado pet.
URL:https://panoramapetvet.com.br/evento/simposio-vet-nutrition-summit/
LOCATION:Centro de Convenções Frei Caneca – São Paulo (SP)
END:VEVENT
BEGIN:VEVENT
DTSTART;VALUE=DATE:20261125
DTEND;VALUE=DATE:20261127
DTSTAMP:20260421T114156
CREATED:20251104T152018Z
LAST-MODIFIED:20251104T152018Z
UID:494529-1795564800-1795737599@panoramapetvet.com.br
SUMMARY:Pet Serra Summit
DESCRIPTION:A 2º PetSerra Summit\, maior feira do setor pet da Serra Gaúcha reúne marcas\, profissionais e apaixonados por pets em dois dias de conhecimento\, networking e novidades
URL:https://panoramapetvet.com.br/evento/pet-serra-summit/
LOCATION:Centro de Eventos da Festa da Uva – Caxias do Sul (RS)
END:VEVENT
BEGIN:VEVENT
DTSTART;VALUE=DATE:20261127
DTEND;VALUE=DATE:20261128
DTSTAMP:20260421T114156
CREATED:20251021T181504Z
LAST-MODIFIED:20251021T181504Z
UID:493924-1795737600-1795823999@panoramapetvet.com.br
SUMMARY:Dia do Gato Preto
DESCRIPTION:
URL:https://panoramapetvet.com.br/evento/dia-do-gato-preto/
END:VEVENT
BEGIN:VEVENT
DTSTART;TZID=America/Sao_Paulo:20261201T080000
DTEND;TZID=America/Sao_Paulo:20261231T170000
DTSTAMP:20260421T114156
CREATED:20251017T184157Z
LAST-MODIFIED:20251017T184157Z
UID:492949-1796112000-1798736400@panoramapetvet.com.br
SUMMARY:DEZEMBRO VERDE
DESCRIPTION:
URL:https://panoramapetvet.com.br/evento/dezembro-verde/
END:VEVENT
BEGIN:VEVENT
DTSTART;VALUE=DATE:20261210
DTEND;VALUE=DATE:20261211
DTSTAMP:20260421T114156
CREATED:20251021T181523Z
LAST-MODIFIED:20251021T181523Z
UID:493926-1796860800-1796947199@panoramapetvet.com.br
SUMMARY:Dia internacional dos Direitos dos Animais
DESCRIPTION:
URL:https://panoramapetvet.com.br/evento/dia-internacional-dos-direitos-dos-animais/
END:VEVENT
BEGIN:VEVENT
DTSTART;VALUE=DATE:20261210
DTEND;VALUE=DATE:20261211
DTSTAMP:20260421T114156
CREATED:20251216T181747Z
LAST-MODIFIED:20251216T181747Z
UID:495245-1796860800-1796947199@panoramapetvet.com.br
SUMMARY:Dia Internacional dos Direitos dos Animais
DESCRIPTION:
URL:https://panoramapetvet.com.br/evento/dia-internacional-dos-direitos-dos-animais-3/
END:VEVENT
BEGIN:VEVENT
DTSTART;VALUE=DATE:20271104
DTEND;VALUE=DATE:20271108
DTSTAMP:20260421T114156
CREATED:20251017T161234Z
LAST-MODIFIED:20251017T161234Z
UID:492903-1825286400-1825631999@panoramapetvet.com.br
SUMMARY:Conferência anual de medicina felina da AAFP 2027
DESCRIPTION:Congresso celebrará a medicina veterinária felina\, promovendo encontro de diversos profissionais da área\, onde terão a oportunidade de criar conexões\, ter uma experiência educacional sobre dermatologia felina\, cardiologia e metodologia de diagnóstico\, além de interagir com palestras
URL:https://panoramapetvet.com.br/evento/conferencia-anual-de-medicina-felina-da-aafp-2027/
LOCATION:Chicago\, IL
END:VEVENT
END:VCALENDAR