BEGIN:VCALENDAR
VERSION:2.0
PRODID:-//Panorama PetVet - ECPv6.15.20//NONSGML v1.0//EN
CALSCALE:GREGORIAN
METHOD:PUBLISH
X-WR-CALNAME:Panorama PetVet
X-ORIGINAL-URL:https://panoramapetvet.com.br
X-WR-CALDESC:Eventos para Panorama PetVet
REFRESH-INTERVAL;VALUE=DURATION:PT1H
X-Robots-Tag:noindex
X-PUBLISHED-TTL:PT1H
BEGIN:VTIMEZONE
TZID:America/Sao_Paulo
BEGIN:STANDARD
TZOFFSETFROM:-0300
TZOFFSETTO:-0300
TZNAME:-03
DTSTART:20250101T000000
END:STANDARD
END:VTIMEZONE
BEGIN:VEVENT
DTSTART;VALUE=DATE:20261001
DTEND;VALUE=DATE:20261101
DTSTAMP:20260423T055841
CREATED:20251017T183839Z
LAST-MODIFIED:20251017T183839Z
UID:492945-1790812800-1793491199@panoramapetvet.com.br
SUMMARY:OUTUBRO ROSA
DESCRIPTION:
URL:https://panoramapetvet.com.br/evento/outubro-rosa/
END:VEVENT
BEGIN:VEVENT
DTSTART;VALUE=DATE:20261013
DTEND;VALUE=DATE:20261016
DTSTAMP:20260423T055841
CREATED:20251104T152118Z
LAST-MODIFIED:20251104T152118Z
UID:494532-1791849600-1792108799@panoramapetvet.com.br
SUMMARY:WSAVA Congress
DESCRIPTION:O 51º Congresso Mundial da Associação Veterinária de Pequenos Animais (WSAVA 2026)\, reunirá toda a comunidade global de profissionais veterinários em três dias repletos de atualizações e dicas clínicas para aprimorar a prática e oportunidades de networking para conhecer colegas do mundo todo\, troca de perspectivas
URL:https://panoramapetvet.com.br/evento/wsava-congress/
LOCATION:Varsóvia\, Polônia
END:VEVENT
BEGIN:VEVENT
DTSTART;VALUE=DATE:20261015
DTEND;VALUE=DATE:20261018
DTSTAMP:20260423T055841
CREATED:20251031T184437Z
LAST-MODIFIED:20251031T184437Z
UID:494477-1792022400-1792281599@panoramapetvet.com.br
SUMMARY:6ª Convenção ABHV
DESCRIPTION:Durante três dias de evento\, a 6ª Convenção ABHV promoverá palestras e networing com os principais especialistas da área e renomadas industrias do setor
URL:https://panoramapetvet.com.br/evento/6a-convencao-abhv/
LOCATION:Hotel Leão da Montanha — Campos do Jordão (SP)
END:VEVENT
END:VCALENDAR