BEGIN:VCALENDAR
VERSION:2.0
PRODID:-//Panorama PetVet - ECPv6.15.20//NONSGML v1.0//EN
CALSCALE:GREGORIAN
METHOD:PUBLISH
X-WR-CALNAME:Panorama PetVet
X-ORIGINAL-URL:https://panoramapetvet.com.br
X-WR-CALDESC:Eventos para Panorama PetVet
REFRESH-INTERVAL;VALUE=DURATION:PT1H
X-Robots-Tag:noindex
X-PUBLISHED-TTL:PT1H
BEGIN:VTIMEZONE
TZID:America/Sao_Paulo
BEGIN:STANDARD
TZOFFSETFROM:-0300
TZOFFSETTO:-0300
TZNAME:-03
DTSTART:20240101T000000
END:STANDARD
END:VTIMEZONE
BEGIN:VEVENT
DTSTART;VALUE=DATE:20251001
DTEND;VALUE=DATE:20251101
DTSTAMP:20260423T055709
CREATED:20251017T184216Z
LAST-MODIFIED:20251017T184216Z
UID:492951-1759276800-1761955199@panoramapetvet.com.br
SUMMARY:OUTUBRO ROSA
DESCRIPTION:
URL:https://panoramapetvet.com.br/evento/outubro-rosa-2/
END:VEVENT
BEGIN:VEVENT
DTSTART;VALUE=DATE:20251024
DTEND;VALUE=DATE:20251027
DTSTAMP:20260423T055709
CREATED:20251017T145426Z
LAST-MODIFIED:20251017T145426Z
UID:492834-1761264000-1761523199@panoramapetvet.com.br
SUMMARY:2ª Minas Expo Pet Vet
DESCRIPTION:Evento destinado a médicos veterinários\, zootecnistas\, groomers e demais profissionais do setor pet\, reunirá exposições\, treinamentos\, workshops\, cursos e uma feira de negócios com as últimas novidades de produtos\, serviços e soluções voltadas à saúde\, bem-estar e estética animal.
URL:https://panoramapetvet.com.br/evento/2a-minas-expo-pet-vet/
LOCATION:Pouso Alegre
END:VEVENT
BEGIN:VEVENT
DTSTART;VALUE=DATE:20251025
DTEND;VALUE=DATE:20251026
DTSTAMP:20260423T055709
CREATED:20251017T145513Z
LAST-MODIFIED:20251017T145513Z
UID:492837-1761350400-1761436799@panoramapetvet.com.br
SUMMARY:EloVetDay IV
DESCRIPTION:Gestores\, sócios de hospitais e clínicas veterinárias\, profissionais da indústria\, investidores e pesquisadores se reunem na 4º edição do EvoVetDay\, evento que promove discussões estratégicas entre os principais players do ecossistema veterinário.
URL:https://panoramapetvet.com.br/evento/elovetday-iv/
LOCATION:Casa Pompeia\, SP
END:VEVENT
END:VCALENDAR