BEGIN:VCALENDAR
VERSION:2.0
PRODID:-//Panorama PetVet - ECPv6.15.20//NONSGML v1.0//EN
CALSCALE:GREGORIAN
METHOD:PUBLISH
X-WR-CALNAME:Panorama PetVet
X-ORIGINAL-URL:https://panoramapetvet.com.br
X-WR-CALDESC:Eventos para Panorama PetVet
REFRESH-INTERVAL;VALUE=DURATION:PT1H
X-Robots-Tag:noindex
X-PUBLISHED-TTL:PT1H
BEGIN:VTIMEZONE
TZID:America/Sao_Paulo
BEGIN:STANDARD
TZOFFSETFROM:-0300
TZOFFSETTO:-0300
TZNAME:-03
DTSTART:20240101T000000
END:STANDARD
END:VTIMEZONE
BEGIN:VEVENT
DTSTART;VALUE=DATE:20251001
DTEND;VALUE=DATE:20251101
DTSTAMP:20260423T073505
CREATED:20251017T184216Z
LAST-MODIFIED:20251017T184216Z
UID:492951-1759276800-1761955199@panoramapetvet.com.br
SUMMARY:OUTUBRO ROSA
DESCRIPTION:
URL:https://panoramapetvet.com.br/evento/outubro-rosa-2/
END:VEVENT
BEGIN:VEVENT
DTSTART;VALUE=DATE:20251005
DTEND;VALUE=DATE:20251008
DTSTAMP:20260423T073505
CREATED:20251017T144414Z
LAST-MODIFIED:20251017T144414Z
UID:492812-1759622400-1759881599@panoramapetvet.com.br
SUMMARY:PetSul Brasil
DESCRIPTION:A primeira edição da PetSul Brasil terá três dias de workshops\, palestras e arenas de conteúdo e reúne profissionais do mercado pet para capacitação\, tendências e troca de experiências em Santa Catarina
URL:https://panoramapetvet.com.br/evento/petsul-brasil/
LOCATION:Centro de Eventos Mundo Car\, São José\, SC
END:VEVENT
END:VCALENDAR